BEGIN:VCALENDAR
VERSION:2.0
PRODID:-//ArabLounge Magazine - ECPv4.2.6//NONSGML v1.0//EN
CALSCALE:GREGORIAN
METHOD:PUBLISH
X-WR-CALNAME:ArabLounge Magazine
X-ORIGINAL-URL:http://magazine.arablounge.com
X-WR-CALDESC:Events for ArabLounge Magazine
BEGIN:VEVENT
DTSTART;TZID=UTC-5:20160828T173000
DTEND;TZID=UTC-5:20160828T203000
DTSTAMP:20260426T010241
CREATED:20160805T094507
LAST-MODIFIED:20160805T094507
UID:3294-1472405400-1472416200@magazine.arablounge.com
SUMMARY:24TH ANNUAL BUILDING ECONOMIC BRIDGES GALA - LIVONIA - MI
DESCRIPTION:– An extraordinary night awaits you! \n\nBusiness and political leaders and national\, as well as local Arab Americans\, are\nhonored for their contributions to the business world and to their community.\n\nThe Gala is a wonderful opportunity to network!\n\nJoin us for a glamorous\, lavish evening!
URL:http://magazine.arablounge.com/event/24th-annual-building-economic-bridges-gala-livonia-mi/
LOCATION:27777 Schoolcraft Rd\, Livonia\, MI\, 48150\, United States
GEO:42.3830096;-83.318404
X-APPLE-STRUCTURED-LOCATION;VALUE=URI;X-ADDRESS=27777 Schoolcraft Rd Livonia MI 48150 United States;X-APPLE-RADIUS=500;X-TITLE=27777 Schoolcraft Rd:geo:-83.318404,42.3830096
ATTACH;FMTTYPE=image/png:http://magazine.arablounge.com/wp-content/uploads/2016/08/Capture-31.png
ORGANIZER;CN="The%20Chamber":MAILTO:faybeydoun@americanarab.com 
END:VEVENT
END:VCALENDAR