BEGIN:VCALENDAR
VERSION:2.0
PRODID:-//ArabLounge Magazine - ECPv4.2.6//NONSGML v1.0//EN
CALSCALE:GREGORIAN
METHOD:PUBLISH
X-WR-CALNAME:ArabLounge Magazine
X-ORIGINAL-URL:http://magazine.arablounge.com
X-WR-CALDESC:Events for ArabLounge Magazine
BEGIN:VEVENT
DTSTART;TZID=UTC-8:20160828T120000
DTEND;TZID=UTC-8:20160828T190000
DTSTAMP:20260425T214107
CREATED:20160803T154829
LAST-MODIFIED:20160803T154829
UID:3230-1472385600-1472410800@magazine.arablounge.com
SUMMARY:39th Annual Middle East Festival - Portland\, Oregon
DESCRIPTION: Experience the food\, dance and faith of the Middle East. Kliros concert at 2pm and 4pm. Traditional dance at 3pm and 5 pm. Church tours\, food\, children’s activities\, bookstore and silent auction throughout the day
URL:http://magazine.arablounge.com/event/39th-annual-middle-east-festival-portland-oregon/
LOCATION: 2101 NE 162nd Ave\, Portland\, OR\, 97230\, United States
GEO:45.5382496;-122.4960847
X-APPLE-STRUCTURED-LOCATION;VALUE=URI;X-ADDRESS=2101 NE 162nd Ave Portland OR 97230 United States;X-APPLE-RADIUS=500;X-TITLE=2101 NE 162nd Ave:geo:-122.4960847,45.5382496
CATEGORIES:Festivals
ATTACH;FMTTYPE=image/png:http://magazine.arablounge.com/wp-content/uploads/2016/08/Capture-16.png
END:VEVENT
END:VCALENDAR