BEGIN:VCALENDAR
VERSION:2.0
PRODID:-//ArabLounge Magazine - ECPv4.2.6//NONSGML v1.0//EN
CALSCALE:GREGORIAN
METHOD:PUBLISH
X-WR-CALNAME:ArabLounge Magazine
X-ORIGINAL-URL:http://magazine.arablounge.com
X-WR-CALDESC:Events for ArabLounge Magazine
BEGIN:VEVENT
DTSTART;TZID=UTC-5:20160812T180000
DTEND;TZID=UTC-5:20160812T180000
DTSTAMP:20260426T025003
CREATED:20160803T144902
LAST-MODIFIED:20160805T164525
UID:3204-1471024800-1471024800@magazine.arablounge.com
SUMMARY:57th Annual Mahrajan / Lebanese Festival - CONNECTICUT
DESCRIPTION:THE FESTIVAL WILL RUN FROM AUGUST 12 - 14 !!!\n\nFor 57 years the Ehden Lebanese American Club has been hosting its Lebanese festival\, better known as a “Mahrajan!”\nA Mahrajan is a great outdoor gathering showcasing the authentic Lebanese food\, music\, dancing and culture.\n\n\nThis year the festival will be conducted on Friday\, August 12\, from 6pm-12am Saturday\, August 13\, from 12pm-12am and Sunday\, August 14\, from 11am-5pm
URL:http://magazine.arablounge.com/event/57th-annual-mahrajan-lebanese-festival-connecticut/
LOCATION:3 Garthwait Rd \, Wolcott\, CT\, CT 06716\, United States
GEO:41.5713425;-72.9919039
X-APPLE-STRUCTURED-LOCATION;VALUE=URI;X-ADDRESS=3 Garthwait Rd  Wolcott CT CT 06716 United States;X-APPLE-RADIUS=500;X-TITLE=3 Garthwait Rd:geo:-72.9919039,41.5713425
CATEGORIES:Festivals
ATTACH;FMTTYPE=image/png:http://magazine.arablounge.com/wp-content/uploads/2016/08/Capture-11.png
END:VEVENT
END:VCALENDAR