BEGIN:VCALENDAR
VERSION:2.0
PRODID:-//ArabLounge Magazine - ECPv4.2.6//NONSGML v1.0//EN
CALSCALE:GREGORIAN
METHOD:PUBLISH
X-WR-CALNAME:ArabLounge Magazine
X-ORIGINAL-URL:http://magazine.arablounge.com
X-WR-CALDESC:Events for ArabLounge Magazine
BEGIN:VEVENT
DTSTART;TZID=UTC-8:20161001T173000
DTEND;TZID=UTC-8:20161001T210000
DTSTAMP:20260426T023820
CREATED:20160911T172755
LAST-MODIFIED:20160911T172755
UID:3938-1475343000-1475355600@magazine.arablounge.com
SUMMARY:9th Annual Arabic Dinner in Chico
DESCRIPTION:9th Annual Arabic Dinner prepared by Ali Sarsour and Friends.\n\n \tDinner and Silent auction\n \tAll proceeds go to support the work of the Shalom Free Clinic\n\n \n\nFor Reservations or Questions call Nancy at 518-8422\nTickets available at the Shalom Free Clinic Sundays 1 to 4 pm
URL:http://magazine.arablounge.com/event/9th-annual-arabic-dinner-in-chico/
LOCATION:295 E Washington Ave\, Chico\, CA\, 95926-3936\, United States
GEO:39.7375065;-121.8409465
X-APPLE-STRUCTURED-LOCATION;VALUE=URI;X-ADDRESS=295 E Washington Ave Chico CA 95926-3936 United States;X-APPLE-RADIUS=500;X-TITLE=295 E Washington Ave:geo:-121.8409465,39.7375065
CATEGORIES:Charity,Food
ATTACH;FMTTYPE=image/jpeg:http://magazine.arablounge.com/wp-content/uploads/2016/09/arab-dinner.jpg
END:VEVENT
END:VCALENDAR