BEGIN:VCALENDAR
VERSION:2.0
PRODID:-//ArabLounge Magazine - ECPv4.2.6//NONSGML v1.0//EN
CALSCALE:GREGORIAN
METHOD:PUBLISH
X-WR-CALNAME:ArabLounge Magazine
X-ORIGINAL-URL:http://magazine.arablounge.com
X-WR-CALDESC:Events for ArabLounge Magazine
BEGIN:VEVENT
DTSTART;TZID=UTC-6:20160807T100000
DTEND;TZID=UTC-6:20160807T160000
DTSTAMP:20260426T041936
CREATED:20160728T130153
LAST-MODIFIED:20160728T130153
UID:3133-1470564000-1470585600@magazine.arablounge.com
SUMMARY:AAHC 10 th Annual Golf Outing - Grand Blanc\, Michigan
DESCRIPTION:FEATURING\n18 Holes of golf\, with cart\nFour Person Scramble\nOn-Course contest\nMen’s\, Women’s\, & Mixed Team Flights\n\nSCHEDULE:\nShotgun Start at 10:00 a.m.\nLunch at the Turn\nBanquet & Prizes at 3:00 p.m.\n\nQuestions:\nPlease call (810) 235-2722\nEmail: Abeer@aahcflint.org
URL:http://magazine.arablounge.com/event/aahc-10-th-annual-golf-outing-grand-blanc-michigan/
LOCATION:5270 Perry Rd\, Grand Blanc\, 48439
GEO:42.928567;-83.6020656
X-APPLE-STRUCTURED-LOCATION;VALUE=URI;X-ADDRESS=5270 Perry Rd Grand Blanc 48439;X-APPLE-RADIUS=500;X-TITLE=5270 Perry Rd:geo:-83.6020656,42.928567
CATEGORIES:Community,Sport
ATTACH;FMTTYPE=image/png:http://magazine.arablounge.com/wp-content/uploads/2016/07/Ekran-Alıntısı-48.png
ORGANIZER;CN="AAHC":MAILTO: Abeer@aahcflint.org
END:VEVENT
END:VCALENDAR