BEGIN:VCALENDAR
VERSION:2.0
PRODID:-//ArabLounge Magazine - ECPv4.2.6//NONSGML v1.0//EN
CALSCALE:GREGORIAN
METHOD:PUBLISH
X-WR-CALNAME:ArabLounge Magazine
X-ORIGINAL-URL:http://magazine.arablounge.com
X-WR-CALDESC:Events for ArabLounge Magazine
BEGIN:VEVENT
DTSTART;TZID=UTC-5:20160827T120000
DTEND;TZID=UTC-5:20160827T120000
DTSTAMP:20260425T200531
CREATED:20160814T231144
LAST-MODIFIED:20160814T231144
UID:3388-1472299200-1472299200@magazine.arablounge.com
SUMMARY:Arab American Block Party in Youngstown
DESCRIPTION:Join us for a taste of the Mediterranean in the heart of Downtown Youngstown! From Jerusalem to Beirut to Damascus to Amman to Cairo! Festivities include all the best Arabic music\, dancers\, food\, drinks\, hookah and much more! Featuring performances by Tony Eid\, DJ Micho and Maria! Will take place at the Circle Hookah Bar\, 116 West Federal Street behind the Downtown Circle Convenience and Deli.
URL:http://magazine.arablounge.com/event/arab-american-block-party-in-youngstown/
LOCATION:116 W Federal St\, Youngstown\, OH\, 44503\, United States
GEO:41.1009022;-80.6509456
X-APPLE-STRUCTURED-LOCATION;VALUE=URI;X-ADDRESS=116 W Federal St Youngstown OH 44503 United States;X-APPLE-RADIUS=500;X-TITLE=116 W Federal St:geo:-80.6509456,41.1009022
CATEGORIES:Dance,Music
ATTACH;FMTTYPE=image/jpeg:http://magazine.arablounge.com/wp-content/uploads/2016/08/arabparty.jpg
END:VEVENT
END:VCALENDAR