BEGIN:VCALENDAR
VERSION:2.0
PRODID:-//ArabLounge Magazine - ECPv4.2.6//NONSGML v1.0//EN
CALSCALE:GREGORIAN
METHOD:PUBLISH
X-WR-CALNAME:ArabLounge Magazine
X-ORIGINAL-URL:http://magazine.arablounge.com
X-WR-CALDESC:Events for ArabLounge Magazine
BEGIN:VEVENT
DTSTART;TZID=UTC+0:20160827T120000
DTEND;TZID=UTC+0:20160827T160000
DTSTAMP:20260425T200432
CREATED:20160814T234034
LAST-MODIFIED:20160814T234323
UID:3400-1472299200-1472313600@magazine.arablounge.com
SUMMARY:Arabic Dance with Jane Wass in West Cork
DESCRIPTION:Getting into your Rhythm\nDrum them\, dance them\, hear them\, feel them!\n4 hours of dance and simple drumming to raise your energy and move your body with strength and vitality.
URL:http://magazine.arablounge.com/event/arabic-dance-with-jane-wass-in-west-cork/
LOCATION:North Street\, Skibbereen\, County Cork\, Ireland
GEO:51.5518413;-9.2644028
X-APPLE-STRUCTURED-LOCATION;VALUE=URI;X-ADDRESS=North Street Skibbereen County Cork Ireland;X-APPLE-RADIUS=500;X-TITLE=North Street:geo:-9.2644028,51.5518413
CATEGORIES:Dance
ATTACH;FMTTYPE=image/jpeg:http://magazine.arablounge.com/wp-content/uploads/2016/08/jANE-WASS.jpg
END:VEVENT
END:VCALENDAR