BEGIN:VCALENDAR
VERSION:2.0
PRODID:-//ArabLounge Magazine - ECPv4.2.6//NONSGML v1.0//EN
CALSCALE:GREGORIAN
METHOD:PUBLISH
X-WR-CALNAME:ArabLounge Magazine
X-ORIGINAL-URL:http://magazine.arablounge.com
X-WR-CALDESC:Events for ArabLounge Magazine
BEGIN:VEVENT
DTSTART;TZID=UTC+0:20161120T043000
DTEND;TZID=UTC+0:20161120T200000
DTSTAMP:20260425T213739
CREATED:20160814T232547
LAST-MODIFIED:20160814T232632
UID:3394-1479616200-1479672000@magazine.arablounge.com
SUMMARY:Arabic singing workshop with Tarek Bitar in Norwich
DESCRIPTION:Learn to sing in the maqam - Arabic scale - with Lebanese Singer and Oud player Tarek Bitar of the Baladi Blues Ensemble. Singers will be introduced to the basics of Arabic music and learn beautiful\, classic Arabian songs.\n\n \n\nThis workshop\, held in the Octagon Unitarian Chapel\, will benefit from the building's beautiful acoustics. The workshop costs £30 and tickets are available from www.norfolkorientaldance.org.uk\, by emailing norfolkorientaldance@gmail.com or by calling Miriam on 07706746750.\n\nIn the evening from 8pm the Baladi Blues Ensemble are playing a concert in the same venue with six musicians\, dance performances and free dancing for all.
URL:http://magazine.arablounge.com/event/arabic-singing-workshop-with-tarek-bitar-in-norwich/
LOCATION:23 Colegate\, Norwich\, NR3 1BN\, United Kingdom
GEO:52.6331833;1.2953488
X-APPLE-STRUCTURED-LOCATION;VALUE=URI;X-ADDRESS=23 Colegate Norwich NR3 1BN United Kingdom;X-APPLE-RADIUS=500;X-TITLE=23 Colegate:geo:1.2953488,52.6331833
CATEGORIES:Music,Workshop
ATTACH;FMTTYPE=image/jpeg:http://magazine.arablounge.com/wp-content/uploads/2016/08/arab-singing.jpg
END:VEVENT
END:VCALENDAR