BEGIN:VCALENDAR
VERSION:2.0
PRODID:-//ArabLounge Magazine - ECPv4.2.6//NONSGML v1.0//EN
CALSCALE:GREGORIAN
METHOD:PUBLISH
X-WR-CALNAME:ArabLounge Magazine
X-ORIGINAL-URL:http://magazine.arablounge.com
X-WR-CALDESC:Events for ArabLounge Magazine
BEGIN:VEVENT
DTSTART;TZID=UTC+0:20160825T200000
DTEND;TZID=UTC+0:20160825T213000
DTSTAMP:20260425T202701
CREATED:20160816T211754
LAST-MODIFIED:20160816T211754
UID:3474-1472155200-1472160600@magazine.arablounge.com
SUMMARY:Heritage and Conflict: Syria's battle to protect its past
DESCRIPTION:With a capital among the oldest continuously inhabited cities in the world\, Syria has been home to some of the world’s most ancient civilisations. But after five years of armed conflict\, the country has suffered a devastating loss of cultural heritage.\n\nAt an exclusive Edinburgh World Heritage lecture\, Professor Maamoun Abdulkarim\, Director-General of Antiquities and Museums\, Arab Republic of Syria\, will talk about the appalling destruction of priceless monuments in many parts of the country as well as the impressive efforts led by his team to conceal important museum collections across Syria from further harm. He will call upon the international community to redouble its efforts to help Syria protect\, and in places rebuild\, its heritage for the benefit of all humanity.\nThe lecture will be followed by a drinks reception to welcome Professor Abdulkarim to Edinburgh.
URL:http://magazine.arablounge.com/event/heritage-and-conflict-syrias-battle-to-protect-its-past/
LOCATION:9 Queen Street\, Edinburgh\, EH2 1JQ\, United Kingdom
GEO:55.9550589;-3.1965312
X-APPLE-STRUCTURED-LOCATION;VALUE=URI;X-ADDRESS=9 Queen Street Edinburgh EH2 1JQ United Kingdom;X-APPLE-RADIUS=500;X-TITLE=9 Queen Street:geo:-3.1965312,55.9550589
CATEGORIES:Discussion
ATTACH;FMTTYPE=image/jpeg:http://magazine.arablounge.com/wp-content/uploads/2016/08/arab-history.jpg
END:VEVENT
END:VCALENDAR