BEGIN:VCALENDAR
VERSION:2.0
PRODID:-//ArabLounge Magazine - ECPv4.2.6//NONSGML v1.0//EN
CALSCALE:GREGORIAN
METHOD:PUBLISH
X-WR-CALNAME:ArabLounge Magazine
X-ORIGINAL-URL:http://magazine.arablounge.com
X-WR-CALDESC:Events for ArabLounge Magazine
BEGIN:VEVENT
DTSTART;TZID=UTC+0:20161022T130000
DTEND;TZID=UTC+0:20161022T170000
DTSTAMP:20260426T010230
CREATED:20160918T151133
LAST-MODIFIED:20160918T151133
UID:4185-1477141200-1477155600@magazine.arablounge.com
SUMMARY:Hilal Dance Workshop with Alessandro Bascioni in London
DESCRIPTION:Integration and Musicality of the Body with Alessandro Bascioni - dancer/choreographer and teacher\, based in London and Florence\, has a background in Dance Therapy\, African Dance and Hilal Dance. He founded the Iskandar Dance Company in 2005 with its launch at Tanzhaus nrw\, tours and teaches throughout Europe successfully.\n\n \n\nIn this workshop Alessandro will work the core movements of Hilal Dance from traditional to modern bringing forth the power of integration and musicality of the body.\n\nThe workshop is aimed at anyone who is interested in dance in general\, in Arab-Egyptian folklore\, wishes to explore new body languages and new geometries of movement\, or intends to amplify their own personal expressive and choreographic vocabulary.\n\n \n\nHilal is a contemporary Egyptian dance form that uses Egyptian music in all its forms to get the dancer moving. This dance form enhances body confidence allowing the dancer to feel grounded\, improve posture\, core strength\, agility and grace. All dancers are welcome whatever your experience. We use breath-work and gentle yoga style warm-up to help us align\, stretch and relax before we dance.\n\n \n\nHilal Dance is the art dance based on all the creative\, theatrical and educational work of Suraya Hilal. Avant-garde artist\, Hilal\, drawing upon her Arab/Egyptian cultural roots and her extensive research\, has brought a new culture to the contemporary dance world. Hilal Dance\, conceived in 2000\, is now established as a complete organic system which encompasses: Bodywork\, a choreographic language and an african/arab aesthetic.
URL:http://magazine.arablounge.com/event/hilal-dance-workshop-with-alessandro-bascioni-in-london/2016-10-22/
LOCATION:17 Duke's Road\, London\, WC1H 9PY\, United Kingdom
GEO:51.5271948;-0.1289334
X-APPLE-STRUCTURED-LOCATION;VALUE=URI;X-ADDRESS=17 Duke's Road London WC1H 9PY United Kingdom;X-APPLE-RADIUS=500;X-TITLE=17 Duke's Road:geo:-0.1289334,51.5271948
CATEGORIES:Dance
ATTACH;FMTTYPE=image/jpeg:http://magazine.arablounge.com/wp-content/uploads/2016/09/Alessandro.jpg
END:VEVENT
END:VCALENDAR