BEGIN:VCALENDAR
VERSION:2.0
PRODID:-//ArabLounge Magazine - ECPv4.2.6//NONSGML v1.0//EN
CALSCALE:GREGORIAN
METHOD:PUBLISH
X-WR-CALNAME:ArabLounge Magazine
X-ORIGINAL-URL:http://magazine.arablounge.com
X-WR-CALDESC:Events for ArabLounge Magazine
BEGIN:VEVENT
DTSTART;TZID=UTC+1:20160827T110000
DTEND;TZID=UTC+1:20160827T130000
DTSTAMP:20260425T183521
CREATED:20160816T192353
LAST-MODIFIED:20160816T192353
UID:3451-1472295600-1472302800@magazine.arablounge.com
SUMMARY:Hilal Egyptian Dance with Suraya Hilal in London
DESCRIPTION:Hilal is a contemporary Egyptian dance form that uses Egyptian music in all its forms to get the dancer moving. This dance form enhances body confidence allowing the dancer to feel grounded\, improve posture\, core strength\, agility and grace. All dancers are welcome whatever your experience.\n\n\n\nWe use breath-work and gentle yoga style warm-up to help us align\, stretch and relax before we dance. \n\n\n\nHilal Dance is the art dance based on all the creative\, theatrical and educational work of Suraya Hilal. Avant-garde artist\, Hilal\, drawing upon her Arab/Egyptian cultural roots and her extensive research\, has brought a new culture to the contemporary dance world. Hilal Dance\, conceived in 2000\, is now established as a complete organic system which encompasses: Bodywork\, a choreographic language and an african/arab aesthetic.
URL:http://magazine.arablounge.com/event/hilal-egyptian-dance-with-suraya-hilal-in-london/
LOCATION:17 Duke's Road\, London\, WC1H 9PY\, United Kingdom
GEO:51.5271948;-0.1289334
X-APPLE-STRUCTURED-LOCATION;VALUE=URI;X-ADDRESS=17 Duke's Road London WC1H 9PY United Kingdom;X-APPLE-RADIUS=500;X-TITLE=17 Duke's Road:geo:-0.1289334,51.5271948
CATEGORIES:Dance
ATTACH;FMTTYPE=image/jpeg:http://magazine.arablounge.com/wp-content/uploads/2016/08/hilal-dance.jpg
END:VEVENT
END:VCALENDAR