BEGIN:VCALENDAR
VERSION:2.0
PRODID:-//ArabLounge Magazine - ECPv4.2.6//NONSGML v1.0//EN
CALSCALE:GREGORIAN
METHOD:PUBLISH
X-WR-CALNAME:ArabLounge Magazine
X-ORIGINAL-URL:http://magazine.arablounge.com
X-WR-CALDESC:Events for ArabLounge Magazine
BEGIN:VEVENT
DTSTART;TZID=UTC-5:20160820T090000
DTEND;TZID=UTC-5:20160821T170000
DTSTAMP:20260425T231844
CREATED:20160814T225513
LAST-MODIFIED:20160814T225513
UID:3376-1471683600-1471798800@magazine.arablounge.com
SUMMARY:Manara Workshop for Islamic & Arabic Teachers
DESCRIPTION:A Training workshop for all Islamic and Arabic teachers of full time islamic schools and weekend school\, titled\, "Methods of Teaching Islamic and Arabic Studies". Lecturer\, Dr.Manaf Al-Kataneh.\n\n \n\n \n\nManara University for Arabic and ISlamic Studies is a distinguished academic institution offering studies of Islamic Jurisprudence\, Arabic language\, academic research\, and social studies that focuses on the Muslims in the West.
URL:http://magazine.arablounge.com/event/manara-workshop-for-islamic-arabic-teachers/
LOCATION: 257 Pershing Rd\, Clifton\, NJ\, 07013\, United States
GEO:40.8603114;-74.170983
X-APPLE-STRUCTURED-LOCATION;VALUE=URI;X-ADDRESS=257 Pershing Rd Clifton NJ 07013 United States;X-APPLE-RADIUS=500;X-TITLE=257 Pershing Rd:geo:-74.170983,40.8603114
CATEGORIES:Learning,Workshop
ATTACH;FMTTYPE=image/jpeg:http://magazine.arablounge.com/wp-content/uploads/2016/08/manara-studies.jpg
END:VEVENT
END:VCALENDAR