BEGIN:VCALENDAR
VERSION:2.0
PRODID:-//ArabLounge Magazine - ECPv4.2.6//NONSGML v1.0//EN
CALSCALE:GREGORIAN
METHOD:PUBLISH
X-WR-CALNAME:ArabLounge Magazine
X-ORIGINAL-URL:http://magazine.arablounge.com
X-WR-CALDESC:Events for ArabLounge Magazine
BEGIN:VEVENT
DTSTART;TZID=UTC-5:20160813T120000
DTEND;TZID=UTC-5:20160813T220000
DTSTAMP:20260426T012501
CREATED:20160803T143652
LAST-MODIFIED:20160803T143902
UID:3199-1471089600-1471125600@magazine.arablounge.com
SUMMARY:Muslim FoodFest 2016 - Maryland
DESCRIPTION:MARYLAND: Please come out and join us insha’Allah for great food\, and family fun\, all while enjoying our live entertainment program. Food will be available for purchase by all of our vendors and a limited supply of sample sizes will also be available for a nominal fee. Along with our food extravaganza\, we will be hosting a grand bazaar with over 30 vendors where you can get all your shopping done!\n\nAll proceeds will be going towards benefitting the Al-Rahmah School Educational Trust!\n\nEarly bird $5 special ends 8/12! Price will increase to $10 on 8/13. \n\nTO REGISTER OR BECOME A VENDOR\, PLEASE VISIT:\nwww.muslimfoodfest.com\ninfo@muslimfoodfest.com\nLIMITED VENDING SPOTS AVAILABLE!
URL:http://magazine.arablounge.com/event/muslim-foodfest-2016-maryland/
LOCATION:6631 Johnnycake Road \, Windsor Mill\, MD\,  21244\, United States
GEO:39.3033387;-76.7463509
X-APPLE-STRUCTURED-LOCATION;VALUE=URI;X-ADDRESS=6631 Johnnycake Road  Windsor Mill MD  21244 United States;X-APPLE-RADIUS=500;X-TITLE=6631 Johnnycake Road:geo:-76.7463509,39.3033387
CATEGORIES:Festivals
ATTACH;FMTTYPE=image/png:http://magazine.arablounge.com/wp-content/uploads/2016/08/Capture-10.png
END:VEVENT
END:VCALENDAR