BEGIN:VCALENDAR
VERSION:2.0
PRODID:-//ArabLounge Magazine - ECPv4.2.6//NONSGML v1.0//EN
CALSCALE:GREGORIAN
METHOD:PUBLISH
X-WR-CALNAME:ArabLounge Magazine
X-ORIGINAL-URL:http://magazine.arablounge.com
X-WR-CALDESC:Events for ArabLounge Magazine
BEGIN:VEVENT
DTSTART;TZID=UTC-5:20160901T193000
DTEND;TZID=UTC-5:20160901T223000
DTSTAMP:20260425T231733
CREATED:20160803T160309
LAST-MODIFIED:20160803T160637
UID:3235-1472758200-1472769000@magazine.arablounge.com
SUMMARY:RAQS WITHOUT BORDERS: MENA Dance Festival
DESCRIPTION:TORKOMADA\, a not-for-profit organization that promotes cultural diplomacy\, is hosting a Middle Eastern and North African Dance Festival in NYC from 9/1/16-9/5/16 with an award ceremony.\n\nPurpose:  Cultural Diplomacy through Middle Eastern and North African Dance. Honoring the traditions of the indigenous dances and cultural expressions of the Middle East and North Africa to engage in cultural diplomacy towards peace building. This gala event will  feature master instructors\, lecturers\, performers\, and distinguished pioneers from the Middle Eastern dance field.\n\nAwards and Development: Recipient of NYC Department of Cultural Affairs\, the NY State Council on the Arts\, the Lower Manhattan Cultural Council  for the 2016 Creative Engagement Grant\, and the CUNY Dance Initiative in 2015.\n MENA DANCE FESTIVAL RUNS FROM 1ST - 5TH SEPTEMBER !!!
URL:http://magazine.arablounge.com/event/raqs-without-borders-mena-dance-festival/
LOCATION:161A Chrystie Street at Dixon Place \, Manhattan\, NY\, 10040\, United States
GEO:40.8639624;-73.9330429
X-APPLE-STRUCTURED-LOCATION;VALUE=URI;X-ADDRESS=161A Chrystie Street at Dixon Place  Manhattan NY 10040 United States;X-APPLE-RADIUS=500;X-TITLE=161A Chrystie Street at Dixon Place:geo:-73.9330429,40.8639624
CATEGORIES:Dance,Entertainment,Festivals
ATTACH;FMTTYPE=image/png:http://magazine.arablounge.com/wp-content/uploads/2016/08/Capture-17.png
END:VEVENT
END:VCALENDAR