BEGIN:VCALENDAR
VERSION:2.0
PRODID:-//ArabLounge Magazine - ECPv4.2.6//NONSGML v1.0//EN
CALSCALE:GREGORIAN
METHOD:PUBLISH
X-WR-CALNAME:ArabLounge Magazine
X-ORIGINAL-URL:http://magazine.arablounge.com
X-WR-CALDESC:Events for ArabLounge Magazine
BEGIN:VEVENT
DTSTART;TZID=UTC-8:20161007T153000
DTEND;TZID=UTC-8:20161007T174000
DTSTAMP:20260426T042439
CREATED:20160914T201017
LAST-MODIFIED:20160914T201017
UID:4100-1475854200-1475862000@magazine.arablounge.com
SUMMARY:Screenings of “Sins of the Flesh” at Vancouver International Film Festival
DESCRIPTION:From one of Egypt’s most controversial and taboo-breaking filmmakers comes a drama of betrayal\, passion and political upheaval. A year after the events that kicked off the Arab Spring\, millions of Egyptians gathered to demand the overthrow of President Hosni Mubarak. The January protests lasted 18 days and saw numerous attempts by the government to silence dissent using censorship and violence. In his latest film\, director Khaled El Hagar establishes a parallel narrative\, in which an erotic and symbolic struggle for freedom plays out on a farm while the urban revolt serves as a backdrop.\n\n \n\n \n\nConfined to a marriage of convenience\, Fatma (Nahed El Sebai) is torn between tradition and a drive to rebel against her oppressive circumstances. Her desire for renewal is ignited when an escaped convict turns up seeking shelter. The affair is extremely transgressive\, especially given the rigorous religious standards that underpin Egyptian society. Much like the undemocratic political establishment\, the farm’s master governs with terrifying impunity. The film caused a firestorm of media debate over freedom of expression in its home country. Ironically\, even under the newer government\, the film was censored and subjected to numerous edits before Egyptians could view it. It’s a scathing critique of the establishment\, building to an unflinching ending that questions where the revolution is headed and what it has accomplished.\n\n \n\n \tDirector Khaled El Hagar\n \tCountry of Origin:Egypt\n \tYear:2016\n \tRunning Time:124 mins\n \tLanguage:In Arabic\n \tCast: Nahed El Sebai\, Ahmed Abdala Mahomud\, Zaki Faten\, Mahmoud El Bezawi\, Sawla Aly\, Ahmed Adway\n
URL:http://magazine.arablounge.com/event/screenings-of-sins-of-the-flesh-at-vancouver-international-film-festival-2/
LOCATION:88 W Pender St\, Vancouver\, British Columbia\, V6B 6N9\, Canada
GEO:49.2802753;-123.1067693
X-APPLE-STRUCTURED-LOCATION;VALUE=URI;X-ADDRESS=88 W Pender St Vancouver British Columbia V6B 6N9 Canada;X-APPLE-RADIUS=500;X-TITLE=88 W Pender St:geo:-123.1067693,49.2802753
CATEGORIES:Documentary
ATTACH;FMTTYPE=image/jpeg:http://magazine.arablounge.com/wp-content/uploads/2016/09/SinsOfTheFlesh.jpg
END:VEVENT
END:VCALENDAR