BEGIN:VCALENDAR
VERSION:2.0
PRODID:-//ArabLounge Magazine - ECPv4.2.6//NONSGML v1.0//EN
CALSCALE:GREGORIAN
METHOD:PUBLISH
X-WR-CALNAME:ArabLounge Magazine
X-ORIGINAL-URL:http://magazine.arablounge.com
X-WR-CALDESC:Events for ArabLounge Magazine
BEGIN:VEVENT
DTSTART;TZID=UTC-5:20160807T200000
DTEND;TZID=UTC-5:20160807T220000
DTSTAMP:20260426T023712
CREATED:20160617T135059
LAST-MODIFIED:20160617T135059
UID:2708-1470600000-1470607200@magazine.arablounge.com
SUMMARY:Silk Road Ensemble with Yo-Yo Ma
DESCRIPTION:\n \tThe historical Silk Road\, a series of land and sea trade routes that crisscrossed Eurasia\, enabled the exchange of goods and innovations from Japan to the Mediterranean Sea for some 2\,000 years\, until the 14th century. With its artistic director Yo-Yo Ma\, the Silk Road Ensemble returns to Tanglewood for another fascinating and wide-ranging traversal of music. For further ticket info - 888-266-1200\n
URL:http://magazine.arablounge.com/event/silk-road-ensemble-with-yo-yo-ma/
LOCATION:297 West str\, Lenox\, Lenox\, MA\, 01240\, United States
CATEGORIES:Music
ATTACH;FMTTYPE=image/png:http://magazine.arablounge.com/wp-content/uploads/2016/06/Ekran-Alıntısı-29.png
END:VEVENT
END:VCALENDAR