BEGIN:VCALENDAR
VERSION:2.0
PRODID:-//ArabLounge Magazine - ECPv4.2.6//NONSGML v1.0//EN
CALSCALE:GREGORIAN
METHOD:PUBLISH
X-WR-CALNAME:ArabLounge Magazine
X-ORIGINAL-URL:http://magazine.arablounge.com
X-WR-CALDESC:Events for ArabLounge Magazine
BEGIN:VEVENT
DTSTART;TZID=UTC-5:20160827T130000
DTEND;TZID=UTC-5:20160827T183000
DTSTAMP:20260425T232015
CREATED:20160804T160500
LAST-MODIFIED:20160804T160500
UID:3276-1472302800-1472322600@magazine.arablounge.com
SUMMARY:Sisters Day Out - Shopping Event - Philadelphia
DESCRIPTION:PENNSYLVANIA: Fun Free event. Come out meet people have fun. There will be food\, games\, vendors and henna!! This event is for all the muslimahs to have fun make new friends and come together. WOMEN ONLY!\nFeel free to invite all muslimahs on you friend list
URL:http://magazine.arablounge.com/event/sisters-day-out-shopping-event-philadelphia/
LOCATION:41st Westminster Ave\, Philadelphia\, PA\, 19104\, United States
GEO:39.970181;-75.205784
X-APPLE-STRUCTURED-LOCATION;VALUE=URI;X-ADDRESS=41st Westminster Ave Philadelphia PA 19104 United States;X-APPLE-RADIUS=500;X-TITLE=41st Westminster Ave:geo:-75.205784,39.970181
CATEGORIES:Arts,Socialize,Women
ATTACH;FMTTYPE=image/png:http://magazine.arablounge.com/wp-content/uploads/2016/08/Capture-27.png
ORGANIZER;CN="Zay%27s%20Craft":MAILTO:zaycrafts@gmail.com
END:VEVENT
END:VCALENDAR