BEGIN:VCALENDAR
VERSION:2.0
PRODID:-//ArabLounge Magazine - ECPv4.2.6//NONSGML v1.0//EN
CALSCALE:GREGORIAN
METHOD:PUBLISH
X-WR-CALNAME:ArabLounge Magazine
X-ORIGINAL-URL:http://magazine.arablounge.com
X-WR-CALDESC:Events for ArabLounge Magazine
BEGIN:VEVENT
DTSTART;TZID=UTC+1:20160910T190000
DTEND;TZID=UTC+1:20160910T223000
DTSTAMP:20260425T201458
CREATED:20160816T191832
LAST-MODIFIED:20160816T191832
UID:3448-1473534000-1473546600@magazine.arablounge.com
SUMMARY:Souad Massi in London
DESCRIPTION:After a sold out concert at the Barbican Souad Souad Massi is finally back in London for a special concert not to be missed!\n\n \n\nRaised in Algeria pre-civil war\, playing guitar in jeans and trainers\, Souad Massi was going to get noticed: first for fronting a political rock band\, later performing solo in Paris after fleeing death threats. Here she will present material from her album Al-Mutakallimûn\, mixing Arabic instruments such as the oud with rock and folk influences alongside Portugese Fado and African soul. Her melodic songs are universally appealing\, covering topics from love to politics.\n\n \n\nOn “El Mutakallimun”\, Souad Massi has immersed herself in Arabic poetry and used some of the most significant poems from across the Milleninium as the lyrics for her most beautiful collection of songs “I was fed up with all the images associated with Arabic culture\,” Souad says. “I wanted to pay homage to those mutakallimūn because they left us many beautiful things to share with people who don’t really know about Arabic culture.”\n\n \n\nThis event is 16+.
URL:http://magazine.arablounge.com/event/souad-massi-in-london/
LOCATION:Upper Street\, London\, N1 2UD\, United Kingdom
GEO:51.5395894;-0.1024827
X-APPLE-STRUCTURED-LOCATION;VALUE=URI;X-ADDRESS=Upper Street London N1 2UD United Kingdom;X-APPLE-RADIUS=500;X-TITLE=Upper Street:geo:-0.1024827,51.5395894
CATEGORIES:Music
ATTACH;FMTTYPE=image/jpeg:http://magazine.arablounge.com/wp-content/uploads/2016/08/souad_massi-arab-music.jpg
END:VEVENT
END:VCALENDAR