BEGIN:VCALENDAR
VERSION:2.0
PRODID:-//ArabLounge Magazine - ECPv4.2.6//NONSGML v1.0//EN
CALSCALE:GREGORIAN
METHOD:PUBLISH
X-WR-CALNAME:ArabLounge Magazine
X-ORIGINAL-URL:http://magazine.arablounge.com
X-WR-CALDESC:Events for ArabLounge Magazine
BEGIN:VEVENT
DTSTART;TZID=UTC+1:20161021T190000
DTEND;TZID=UTC+1:20161021T190000
DTSTAMP:20260425T183236
CREATED:20160816T212613
LAST-MODIFIED:20160816T212613
UID:3477-1477076400-1477076400@magazine.arablounge.com
SUMMARY:The Langan Band and Honeyfeet in London
DESCRIPTION:Woodburner is proud to present an incredible double headline show at the sensational Styx:\n\n \n\nThe Langan Band\n\nLive party juggernauts bring their unique brand of party to Styx for the very first time. Drawing on Celtic\, Balkan\, Arabic and Blues\, The Langan Band create an outrageously heavy sound with just three titanic members. Alastair Caplin totes smoking-hot violin styles alongside an operatic voice\, Dave Tunstall transports us through psychedelic bass played with complete abandonment and roared vocals\, while John Langan gives it all up and wails the woes of the world - while smashing it on guitar\, cajon and tambourine. You have never seen anything like The Langan Band; it's a flamboyant\, musically extravagant show which blends international influences into one irresistible live dance sound.\n\n \n\nHoneyfeet\n\nFronted by one of the most charismatic singers you will ever see\, Honeyfeet combine deep blues\, afro-sax and trombone\, wood-flute and harmonica for an impossibly huge sound. Add to that the outrageous vocal talent of the one and only Rioghnach Connolly and you have an irresistible force of musical nature. It's a sassy magnetism that leaves you in a simple quandry - watch and listen\, or dance your feet bare to the gritty sounds.
URL:http://magazine.arablounge.com/event/the-langan-band-and-honeyfeet-in-london/
LOCATION:25 Ashley Road\, London\, N17 9LJ\, United Kingdom
GEO:51.5901326;-0.0611392
X-APPLE-STRUCTURED-LOCATION;VALUE=URI;X-ADDRESS=25 Ashley Road London N17 9LJ United Kingdom;X-APPLE-RADIUS=500;X-TITLE=25 Ashley Road:geo:-0.0611392,51.5901326
CATEGORIES:Music
ATTACH;FMTTYPE=image/jpeg:http://magazine.arablounge.com/wp-content/uploads/2016/08/langan-band.jpg
END:VEVENT
END:VCALENDAR