BEGIN:VCALENDAR
VERSION:2.0
PRODID:-//ArabLounge Magazine - ECPv4.2.6//NONSGML v1.0//EN
CALSCALE:GREGORIAN
METHOD:PUBLISH
X-WR-CALNAME:ArabLounge Magazine
X-ORIGINAL-URL:http://magazine.arablounge.com
X-WR-CALDESC:Events for ArabLounge Magazine
BEGIN:VEVENT
DTSTART;VALUE=DATE:20160902
DTEND;VALUE=DATE:20160904
DTSTAMP:20260425T214045
CREATED:20160831
LAST-MODIFIED:20160831
UID:3728-1472774400-1473033599@magazine.arablounge.com
SUMMARY:USA Arab Music Dance & Voice Contest in Washington
DESCRIPTION:The idea of this contest is to discover and encourage Arab talents in the United States. The contest will be divided into three Musical categories - Singing\, Dancing and playing Musical Instruments all related to our treasured Arabic culture .\n\n \n\nPlease be advised: Only one category for each contestant. When you send us your Video ink with the Entry form we will review your talent & email you the result \, We will send invitations to the winners to join the 3 days contest which will take place September 2nd. through September 4th. 2016 in Washington DC .\n\n \n\nFrom each musical category we will choose one winner\, each winner will receive $\,5000 .00 and Video Link will be posted on the Arab America Music Contest Facebook & Instagram.
URL:http://magazine.arablounge.com/event/usa-arab-music-dance-voice-contest-in-washington/
LOCATION:43350 John Mosby Hwy\, Chantilly\, VA\, 20152\, United States
GEO:38.9239225;-77.5025619
X-APPLE-STRUCTURED-LOCATION;VALUE=URI;X-ADDRESS=43350 John Mosby Hwy Chantilly VA 20152 United States;X-APPLE-RADIUS=500;X-TITLE=43350 John Mosby Hwy:geo:-77.5025619,38.9239225
CATEGORIES:Music
ATTACH;FMTTYPE=image/jpeg:http://magazine.arablounge.com/wp-content/uploads/2016/08/arab-voice.jpg
END:VEVENT
END:VCALENDAR