BEGIN:VCALENDAR
VERSION:2.0
PRODID:-//ArabLounge Magazine - ECPv4.2.6//NONSGML v1.0//EN
CALSCALE:GREGORIAN
METHOD:PUBLISH
X-WR-CALNAME:ArabLounge Magazine
X-ORIGINAL-URL:http://magazine.arablounge.com
X-WR-CALDESC:Events for ArabLounge Magazine
BEGIN:VEVENT
DTSTART;TZID=UTC-6:20160828T110000
DTEND;TZID=UTC-6:20160828T200000
DTSTAMP:20260425T231853
CREATED:20160805T092703
LAST-MODIFIED:20160805T092703
UID:3289-1472382000-1472414400@magazine.arablounge.com
SUMMARY:ZN Fashions 2016 Houston EID UL Azha Bazaar
DESCRIPTION:Houstonians! Get ready for ZN Fashions’ one and only Eid Ul Azha Bazaar on August 28! This giant event will be held at the beautiful Noah’s Event Venue Sugarland.\n\nJoin us for fashion\, food and a fun day on August 28.\n\nFor bazaar information \, call ZN Fashions at 630-776-9407 or send email znfashions01@gmail.coms
URL:http://magazine.arablounge.com/event/zn-fashions-2016-houston-eid-ul-azha-bazaar/
LOCATION:16555 Creekbend Dr\, Sugarland\, TX\,  77478\, United States
GEO:29.602285;-95.625477
X-APPLE-STRUCTURED-LOCATION;VALUE=URI;X-ADDRESS=16555 Creekbend Dr Sugarland TX  77478 United States;X-APPLE-RADIUS=500;X-TITLE=16555 Creekbend Dr:geo:-95.625477,29.602285
CATEGORIES:Bazaar,Fashion
ATTACH;FMTTYPE=image/png:http://magazine.arablounge.com/wp-content/uploads/2016/08/Capture-30.png
ORGANIZER;CN="ZN%20Fashions":MAILTO:znfashions01@gmail.com
END:VEVENT
END:VCALENDAR